BEGIN:VCALENDAR
VERSION:2.0
PRODID:-//hacksw/handcal//NONSGML v1.0//EN
BEGIN:VEVENT
DTSTAMP:20260730T023000Z
DTSTART:20260730T023000Z
DTEND:20260730T043000Z

SUMMARY:ENHYPEN WORLD TOUR 'BLOOD SAGA' IN OAKLAND
DESCRIPTION:
END:VEVENT
END:VCALENDAR