BEGIN:VCALENDAR
VERSION:2.0
PRODID:-//hacksw/handcal//NONSGML v1.0//EN
BEGIN:VEVENT
DTSTAMP:20260815T030000Z
DTSTART:20260815T030000Z
DTEND:20260815T050000Z

SUMMARY:Yoasobi: Never Ending Stories Tour
DESCRIPTION:
END:VEVENT
END:VCALENDAR